BEGIN:VCALENDAR
VERSION:2.0
PRODID:-//wp-events-plugin.com//7.2.3.1//EN
TZID:America/Indiana/Indianapolis
X-WR-TIMEZONE:America/Indiana/Indianapolis
BEGIN:VEVENT
UID:590@nbcelkhart.com
DTSTART;TZID=America/Indiana/Indianapolis:20260603T183000
DTEND;TZID=America/Indiana/Indianapolis:20260603T200000
DTSTAMP:20250902T212458Z
URL:https://nbcelkhart.com/events/wednesday-evening-service-2026-06-03/
SUMMARY:Wednesday Evening Service
DESCRIPTION:6:30 – 8 PM AWANA Clubs (Sept. – May)\n6:30 – 8 PM Teen
  Bible Study (Grades 7 -12 – for students not in AWANA)\n6:30 – 7:30 
 PM Evening Service
ATTACH;FMTTYPE=image/jpeg:https://i0.wp.com/nbcelkhart.com/wp-content/uplo
 ads/2022/11/NBC-Logo-Outline.jpg?fit=1024%2C1024&ssl=1
CATEGORIES:Church Events,Community Events,Men's Events,Women's
 Events,Young Adults Events,Youth Events
LOCATION:Northside Baptist Church\, 53198 County Road 9\, Elkhart\, IN\, 46
 514\, United States
X-APPLE-STRUCTURED-LOCATION;VALUE=URI;X-ADDRESS=53198 County Road 9\, Elkha
 rt\, IN\, 46514\, United States;X-APPLE-RADIUS=100;X-TITLE=Northside Bapti
 st Church:geo:0,0
END:VEVENT
BEGIN:VTIMEZONE
TZID:America/Indiana/Indianapolis
X-LIC-LOCATION:America/Indiana/Indianapolis
BEGIN:DAYLIGHT
DTSTART:20260308T030000
TZOFFSETFROM:-0500
TZOFFSETTO:-0400
TZNAME:EDT
END:DAYLIGHT
END:VTIMEZONE
END:VCALENDAR